BEGIN:VCALENDAR
VERSION:2.0
PRODID:-//LeinenLos Münster - ECPv6.15.20//NONSGML v1.0//EN
CALSCALE:GREGORIAN
METHOD:PUBLISH
X-WR-CALNAME:LeinenLos Münster
X-ORIGINAL-URL:https://ms-leinenlos.com
X-WR-CALDESC:Veranstaltungen für LeinenLos Münster
REFRESH-INTERVAL;VALUE=DURATION:PT1H
X-Robots-Tag:noindex
X-PUBLISHED-TTL:PT1H
BEGIN:VTIMEZONE
TZID:Europe/Paris
BEGIN:DAYLIGHT
TZOFFSETFROM:+0100
TZOFFSETTO:+0200
TZNAME:CEST
DTSTART:20230326T010000
END:DAYLIGHT
BEGIN:STANDARD
TZOFFSETFROM:+0200
TZOFFSETTO:+0100
TZNAME:CET
DTSTART:20231029T010000
END:STANDARD
BEGIN:DAYLIGHT
TZOFFSETFROM:+0100
TZOFFSETTO:+0200
TZNAME:CEST
DTSTART:20240331T010000
END:DAYLIGHT
BEGIN:STANDARD
TZOFFSETFROM:+0200
TZOFFSETTO:+0100
TZNAME:CET
DTSTART:20241027T010000
END:STANDARD
BEGIN:DAYLIGHT
TZOFFSETFROM:+0100
TZOFFSETTO:+0200
TZNAME:CEST
DTSTART:20250330T010000
END:DAYLIGHT
BEGIN:STANDARD
TZOFFSETFROM:+0200
TZOFFSETTO:+0100
TZNAME:CET
DTSTART:20251026T010000
END:STANDARD
BEGIN:DAYLIGHT
TZOFFSETFROM:+0100
TZOFFSETTO:+0200
TZNAME:CEST
DTSTART:20260329T010000
END:DAYLIGHT
BEGIN:STANDARD
TZOFFSETFROM:+0200
TZOFFSETTO:+0100
TZNAME:CET
DTSTART:20261025T010000
END:STANDARD
BEGIN:DAYLIGHT
TZOFFSETFROM:+0100
TZOFFSETTO:+0200
TZNAME:CEST
DTSTART:20270328T010000
END:DAYLIGHT
BEGIN:STANDARD
TZOFFSETFROM:+0200
TZOFFSETTO:+0100
TZNAME:CET
DTSTART:20271031T010000
END:STANDARD
END:VTIMEZONE
BEGIN:VEVENT
DTSTART;TZID=Europe/Paris:20260415T190000
DTEND;TZID=Europe/Paris:20260415T223000
DTSTAMP:20260419T184726
CREATED:20251207T145735Z
LAST-MODIFIED:20251207T145811Z
UID:1958-1776279600-1776292200@ms-leinenlos.com
SUMMARY:Kegelabend - 15.04.2026 -
DESCRIPTION: 
URL:https://ms-leinenlos.com/event/kegelnabend-2026-04
LOCATION:Kiepe Wolbeck\, Hofstraße 21\, Münster\, NRW\, 48167\, Germany
CATEGORIES:Kegelabend
END:VEVENT
BEGIN:VEVENT
DTSTART;TZID=Europe/Paris:20260401T093000
DTEND;TZID=Europe/Paris:20260401T130000
DTSTAMP:20260419T184726
CREATED:20260310T095506Z
LAST-MODIFIED:20260310T095958Z
UID:2059-1775035800-1775048400@ms-leinenlos.com
SUMMARY:Rentnerfrühstück - 01.04.2026
DESCRIPTION:Rentner-Frühstück\n \n  \n  \n 
URL:https://ms-leinenlos.com/event/rentnerfruehstueck-01-04-26
LOCATION:NRW
END:VEVENT
BEGIN:VEVENT
DTSTART;TZID=Europe/Paris:20260327T190000
DTEND;TZID=Europe/Paris:20260327T230000
DTSTAMP:20260419T184726
CREATED:20260311T064733Z
LAST-MODIFIED:20260311T064733Z
UID:2066-1774638000-1774652400@ms-leinenlos.com
SUMMARY:Wurstebrotessen 27.03.2026
DESCRIPTION:Wie immer bei TD
URL:https://ms-leinenlos.com/event/wurstebrotessen-27-03-2026
LOCATION:NRW
END:VEVENT
BEGIN:VEVENT
DTSTART;TZID=Europe/Paris:20260318T190000
DTEND;TZID=Europe/Paris:20260318T223000
DTSTAMP:20260419T184726
CREATED:20251207T145631Z
LAST-MODIFIED:20251207T145631Z
UID:1956-1773860400-1773873000@ms-leinenlos.com
SUMMARY:Kegelabend - 18.03.2026 -
DESCRIPTION: 
URL:https://ms-leinenlos.com/event/kegelnabend-2026-03
LOCATION:Kiepe Wolbeck\, Hofstraße 21\, Münster\, NRW\, 48167\, Germany
CATEGORIES:Kegelabend
END:VEVENT
BEGIN:VEVENT
DTSTART;TZID=Europe/Paris:20260218T170000
DTEND;TZID=Europe/Paris:20260218T220000
DTSTAMP:20260419T184726
CREATED:20251207T145417Z
LAST-MODIFIED:20251207T145426Z
UID:1954-1771434000-1771452000@ms-leinenlos.com
SUMMARY:LeinenLos Jahresversammlung - 18.02.2026 - 17 Uhr
DESCRIPTION: 
URL:https://ms-leinenlos.com/event/jahresversammlung
LOCATION:Kiepe Wolbeck\, Hofstraße 21\, Münster\, NRW\, 48167\, Germany
CATEGORIES:Kegelabend
END:VEVENT
BEGIN:VEVENT
DTSTART;TZID=Europe/Paris:20260121T190000
DTEND;TZID=Europe/Paris:20260121T223000
DTSTAMP:20260419T184726
CREATED:20251207T144847Z
LAST-MODIFIED:20251207T144857Z
UID:1952-1769022000-1769034600@ms-leinenlos.com
SUMMARY:Kegelabend - 21.01.2026 -
DESCRIPTION: 
URL:https://ms-leinenlos.com/event/kegelnabend-2026-01
LOCATION:Kiepe Wolbeck\, Hofstraße 21\, Münster\, NRW\, 48167\, Germany
CATEGORIES:Kegelabend
END:VEVENT
BEGIN:VEVENT
DTSTART;TZID=Europe/Paris:20251126T190000
DTEND;TZID=Europe/Paris:20251126T223000
DTSTAMP:20260419T184726
CREATED:20250610T155839Z
LAST-MODIFIED:20250610T155839Z
UID:1658-1764183600-1764196200@ms-leinenlos.com
SUMMARY:Kegelabend - 26.11 2025 -
DESCRIPTION: 
URL:https://ms-leinenlos.com/event/kegelnabend-2025-11-26
LOCATION:Kiepe Wolbeck\, Hofstraße 21\, Münster\, NRW\, 48167\, Germany
CATEGORIES:Kegelabend
END:VEVENT
BEGIN:VEVENT
DTSTART;TZID=Europe/Paris:20251029T190000
DTEND;TZID=Europe/Paris:20251029T223000
DTSTAMP:20260419T184726
CREATED:20250610T155713Z
LAST-MODIFIED:20250610T155713Z
UID:1656-1761764400-1761777000@ms-leinenlos.com
SUMMARY:Kegelabend - 29.10 2025 -
DESCRIPTION: 
URL:https://ms-leinenlos.com/event/kegelnabend-2025-11-1
LOCATION:Kiepe Wolbeck\, Hofstraße 21\, Münster\, NRW\, 48167\, Germany
CATEGORIES:Kegelabend
END:VEVENT
BEGIN:VEVENT
DTSTART;TZID=Europe/Paris:20251001T190000
DTEND;TZID=Europe/Paris:20251001T223000
DTSTAMP:20260419T184726
CREATED:20250610T155432Z
LAST-MODIFIED:20250610T155513Z
UID:1653-1759345200-1759357800@ms-leinenlos.com
SUMMARY:Kegelabend - 01.10 2025 -
DESCRIPTION: 
URL:https://ms-leinenlos.com/event/kegelnabend-2025-8-2-2
LOCATION:Kiepe Wolbeck\, Hofstraße 21\, Münster\, NRW\, 48167\, Germany
CATEGORIES:Kegelabend
END:VEVENT
BEGIN:VEVENT
DTSTART;TZID=Europe/Paris:20250908T080000
DTEND;TZID=Europe/Paris:20250912T170000
DTSTAMP:20260419T184726
CREATED:20250420T130838Z
LAST-MODIFIED:20250420T130925Z
UID:1633-1757318400-1757696400@ms-leinenlos.com
SUMMARY:Kegeltour 2025
DESCRIPTION:Radreise Bleser DH 2025 \nReiseantrittsdatum: 08-09-2025\nReiseenddatum: 12-09-2025\nReiseziel: Niederlande\nAnzahl Reisende: 10
URL:https://ms-leinenlos.com/event/kegeltour-2025
LOCATION:NRW
END:VEVENT
BEGIN:VEVENT
DTSTART;TZID=Europe/Paris:20250903T190000
DTEND;TZID=Europe/Paris:20250903T223000
DTSTAMP:20260419T184726
CREATED:20250610T155250Z
LAST-MODIFIED:20250610T155543Z
UID:1651-1756926000-1756938600@ms-leinenlos.com
SUMMARY:Kegelabend - 03.09 2025 -
DESCRIPTION: 
URL:https://ms-leinenlos.com/event/kegelnabend-2025-8-2
LOCATION:Kiepe Wolbeck\, Hofstraße 21\, Münster\, NRW\, 48167\, Germany
CATEGORIES:Kegelabend
END:VEVENT
BEGIN:VEVENT
DTSTART;TZID=Europe/Paris:20250806T190000
DTEND;TZID=Europe/Paris:20250806T223000
DTSTAMP:20260419T184726
CREATED:20250420T130258Z
LAST-MODIFIED:20250610T155058Z
UID:1630-1754506800-1754519400@ms-leinenlos.com
SUMMARY:Kegelabend - 06.08. 2025
DESCRIPTION: 
URL:https://ms-leinenlos.com/event/kegelnabend-2025-8
LOCATION:Kiepe Wolbeck\, Hofstraße 21\, Münster\, NRW\, 48167\, Germany
CATEGORIES:Kegelabend
END:VEVENT
BEGIN:VEVENT
DTSTART;TZID=Europe/Paris:20250709T190000
DTEND;TZID=Europe/Paris:20250709T223000
DTSTAMP:20260419T184726
CREATED:20250420T125906Z
LAST-MODIFIED:20250610T155016Z
UID:1628-1752087600-1752100200@ms-leinenlos.com
SUMMARY:Kegelabend - 09.07. 2025
DESCRIPTION: 
URL:https://ms-leinenlos.com/event/kegelnabend-2025-07
LOCATION:Kiepe Wolbeck\, Hofstraße 21\, Münster\, NRW\, 48167\, Germany
CATEGORIES:Kegelabend
END:VEVENT
BEGIN:VEVENT
DTSTART;TZID=Europe/Paris:20250611T190000
DTEND;TZID=Europe/Paris:20250611T223000
DTSTAMP:20260419T184726
CREATED:20250420T125750Z
LAST-MODIFIED:20250610T154905Z
UID:1625-1749668400-1749681000@ms-leinenlos.com
SUMMARY:Kegelabend - 11.06. 2025
DESCRIPTION: 
URL:https://ms-leinenlos.com/event/kegelnabend-2025-06
LOCATION:Kiepe Wolbeck\, Hofstraße 21\, Münster\, NRW\, 48167\, Germany
CATEGORIES:Kegelabend
END:VEVENT
BEGIN:VEVENT
DTSTART;TZID=Europe/Paris:20250416T190000
DTEND;TZID=Europe/Paris:20250416T223000
DTSTAMP:20260419T184726
CREATED:20250420T125529Z
LAST-MODIFIED:20250420T125604Z
UID:1623-1744830000-1744842600@ms-leinenlos.com
SUMMARY:Kegelabend - 14.05. 2025
DESCRIPTION: 
URL:https://ms-leinenlos.com/event/kegelnabend-2025-05
LOCATION:Kiepe Wolbeck\, Hofstraße 21\, Münster\, NRW\, 48167\, Germany
CATEGORIES:Kegelabend
END:VEVENT
BEGIN:VEVENT
DTSTART;TZID=Europe/Paris:20250416T190000
DTEND;TZID=Europe/Paris:20250416T223000
DTSTAMP:20260419T184726
CREATED:20250303T163727Z
LAST-MODIFIED:20250303T163819Z
UID:1556-1744830000-1744842600@ms-leinenlos.com
SUMMARY:Kegelabend - 16. 04. 2025
DESCRIPTION: 
URL:https://ms-leinenlos.com/event/kegelnabend-012025-3-2
LOCATION:Kiepe Wolbeck\, Hofstraße 21\, Münster\, NRW\, 48167\, Germany
CATEGORIES:Kegelabend
END:VEVENT
BEGIN:VEVENT
DTSTART;TZID=Europe/Paris:20250319T190000
DTEND;TZID=Europe/Paris:20250319T223000
DTSTAMP:20260419T184726
CREATED:20250303T163524Z
LAST-MODIFIED:20250303T163524Z
UID:1550-1742410800-1742423400@ms-leinenlos.com
SUMMARY:Kegelabend - 19.03. 2025
DESCRIPTION: 
URL:https://ms-leinenlos.com/event/kegelnabend-012025-3
LOCATION:Kiepe Wolbeck\, Hofstraße 21\, Münster\, NRW\, 48167\, Germany
CATEGORIES:Kegelabend
END:VEVENT
BEGIN:VEVENT
DTSTART;TZID=Europe/Paris:20250212T193000
DTEND;TZID=Europe/Paris:20250212T223000
DTSTAMP:20260419T184726
CREATED:20250207T074631Z
LAST-MODIFIED:20250207T080710Z
UID:1524-1739388600-1739399400@ms-leinenlos.com
SUMMARY:Kegelabend - 12. 02 . 2025
DESCRIPTION:Wir wollen eine Stunde früher anfangen um Themen zur Jahreshauptversammlung zu besprechen.
URL:https://ms-leinenlos.com/event/kegelnabend-012025-2
LOCATION:Friedenskrug\, 48167\, Deutschland
CATEGORIES:Kegelabend
END:VEVENT
BEGIN:VEVENT
DTSTART;TZID=Europe/Paris:20250212T180000
DTEND;TZID=Europe/Paris:20250212T223000
DTSTAMP:20260419T184726
CREATED:20250207T080442Z
LAST-MODIFIED:20250207T080635Z
UID:1530-1739383200-1739399400@ms-leinenlos.com
SUMMARY:Jahreshauptversammlung 2025 - am 12.2.25 18 Uhr
DESCRIPTION:  \n 
URL:https://ms-leinenlos.com/event/hauptversammlung-2025-2
LOCATION:Helmut\, Wolteringstrasse\, Münster\, NRW\, Germany
CATEGORIES:Kegelabend
END:VEVENT
BEGIN:VEVENT
DTSTART;TZID=Europe/Paris:20250117T190000
DTEND;TZID=Europe/Paris:20250117T223000
DTSTAMP:20260419T184726
CREATED:20241218T042246Z
LAST-MODIFIED:20241218T042743Z
UID:1458-1737140400-1737153000@ms-leinenlos.com
SUMMARY:Jahreshauptversammlung 2025
DESCRIPTION:  \nBei Helmut
URL:https://ms-leinenlos.com/event/hauptversammlung-2025
LOCATION:Helmut\, Wolteringstrasse\, Münster\, NRW\, Germany
CATEGORIES:Kegelabend
END:VEVENT
BEGIN:VEVENT
DTSTART;TZID=Europe/Paris:20250115T190000
DTEND;TZID=Europe/Paris:20250115T223000
DTSTAMP:20260419T184726
CREATED:20241218T041959Z
LAST-MODIFIED:20241218T042919Z
UID:1456-1736967600-1736980200@ms-leinenlos.com
SUMMARY:Kegelabend - 01 . 2025
DESCRIPTION:
URL:https://ms-leinenlos.com/event/kegelnabend-012025
LOCATION:Friedenskrug\, 48167\, Deutschland
CATEGORIES:Kegelabend
END:VEVENT
BEGIN:VEVENT
DTSTART;TZID=Europe/Paris:20241218T190000
DTEND;TZID=Europe/Paris:20241218T223000
DTSTAMP:20260419T184726
CREATED:20240124T142800Z
LAST-MODIFIED:20240720T125211Z
UID:273-1734548400-1734561000@ms-leinenlos.com
SUMMARY:Kegelabend - Friedenskrug
DESCRIPTION:
URL:https://ms-leinenlos.com/event/kegelnabend-2408-2-2-2-2
LOCATION:Friedenskrug\, 48167\, Deutschland
CATEGORIES:Kegelabend
END:VEVENT
BEGIN:VEVENT
DTSTART;TZID=Europe/Paris:20241120T190000
DTEND;TZID=Europe/Paris:20241120T223000
DTSTAMP:20260419T184726
CREATED:20240124T142732Z
LAST-MODIFIED:20240213T160156Z
UID:271-1732129200-1732141800@ms-leinenlos.com
SUMMARY:Kegelabend - Friedenskrug
DESCRIPTION:
URL:https://ms-leinenlos.com/event/kegelnabend-2408-2-2-2
LOCATION:Friedenskrug\, 48167\, Deutschland
CATEGORIES:Kegelabend
END:VEVENT
BEGIN:VEVENT
DTSTART;TZID=Europe/Paris:20241023T190000
DTEND;TZID=Europe/Paris:20241023T223000
DTSTAMP:20260419T184726
CREATED:20240124T142648Z
LAST-MODIFIED:20240720T125241Z
UID:269-1729710000-1729722600@ms-leinenlos.com
SUMMARY:Kegelabend - Friedenskrug
DESCRIPTION:
URL:https://ms-leinenlos.com/event/kegelnabend-2408-2-2
LOCATION:Friedenskrug\, 48167\, Deutschland
CATEGORIES:Kegelabend
END:VEVENT
BEGIN:VEVENT
DTSTART;VALUE=DATE:20241018
DTEND;VALUE=DATE:20241021
DTSTAMP:20260419T184726
CREATED:20240218T110022Z
LAST-MODIFIED:20240922T122019Z
UID:732-1729209600-1729468799@ms-leinenlos.com
SUMMARY:Kegeltour 2024
DESCRIPTION:Haus Vidrus an der Vechte\, 11 Personen. Land \n \n  \n \nDie Adresse unserer Unterkunft ist: Echteler Weg 1\, 48824 Laar \nFolgender Ablauf ist geplant: \nFreitag 18.10.2024 \n– Ankunft in der Unterkunft zwischen 14 Uhr und 18 Uhr\n– Abendessen mit Biertasting in Hardenberg (NL) ca. 12 km entfernt \nSamstag 19.10.2024 \n– Gegen 12 Uhr mit dem Zug (10 Minuten Fahrt) von Coevorden nach Nieuw Amsterdam\nEntfernung Unterkunft zum Bahnhof Coevorden ca. 7 km\, Entfernung Unterkunft nach Nieuw Amsterdam ca. 25 km\n– Gegen 13 Uhr Besuch van Gogh Museum in Drente (ca. 1-2 Stunden)\n– Gegen 19 Uhr Bowling und Essen in Laar (3\,5 km) \nSonntag 20.10.2024 \n– Nach dem Frühstück muss bis 11 Uhr der Check-out erfolgen. \nDas Frühstück würde ich gerne in der Unterkunft einnehmen.\nHierzu möchten sich bitte ein oder zwei Freunde melden\, die dieses\, plus Getränke für den Aufenthalt\, organisieren.
URL:https://ms-leinenlos.com/event/kegeltour-2024
LOCATION:https://www.airbnb.de/rooms/3127951?source_impression_id=p3_1708253862_pWX0EBLLYRDgGlzH\, Laar\, Niedersachsen
CATEGORIES:Ontour
ATTACH;FMTTYPE=image/jpeg:https://ms-leinenlos.com/wp-content/uploads/2024/02/20241018-Ontour-2.jpg
END:VEVENT
BEGIN:VEVENT
DTSTART;TZID=Europe/Paris:20240925T190000
DTEND;TZID=Europe/Paris:20240925T223000
DTSTAMP:20260419T184726
CREATED:20240124T142559Z
LAST-MODIFIED:20240720T125306Z
UID:267-1727290800-1727303400@ms-leinenlos.com
SUMMARY:Kegelabend - Friedenskrug
DESCRIPTION:
URL:https://ms-leinenlos.com/event/kegelnabend-2408-2
LOCATION:Friedenskrug\, 48167\, Deutschland
CATEGORIES:Kegelabend
END:VEVENT
BEGIN:VEVENT
DTSTART;TZID=Europe/Paris:20240828T190000
DTEND;TZID=Europe/Paris:20240828T223000
DTSTAMP:20260419T184726
CREATED:20240124T142506Z
LAST-MODIFIED:20240720T125324Z
UID:265-1724871600-1724884200@ms-leinenlos.com
SUMMARY:Kegelabend - Friedenskrug
DESCRIPTION:
URL:https://ms-leinenlos.com/event/kegelnabend-2408
LOCATION:Friedenskrug\, 48167\, Deutschland
CATEGORIES:Kegelabend
END:VEVENT
BEGIN:VEVENT
DTSTART;TZID=Europe/Paris:20240731T190000
DTEND;TZID=Europe/Paris:20240731T223000
DTSTAMP:20260419T184726
CREATED:20240124T142346Z
LAST-MODIFIED:20240720T125133Z
UID:263-1722452400-1722465000@ms-leinenlos.com
SUMMARY:Kegelabend - Friedenskrug
DESCRIPTION:
URL:https://ms-leinenlos.com/event/kegelnabend-3-3-2-2-2
LOCATION:Friedenskrug\, 48167\, Deutschland
CATEGORIES:Kegelabend
END:VEVENT
BEGIN:VEVENT
DTSTART;TZID=Europe/Paris:20240703T190000
DTEND;TZID=Europe/Paris:20240703T223000
DTSTAMP:20260419T184726
CREATED:20240124T142304Z
LAST-MODIFIED:20240720T125352Z
UID:261-1720033200-1720045800@ms-leinenlos.com
SUMMARY:Kegelabend - Friedenskrug
DESCRIPTION:
URL:https://ms-leinenlos.com/event/kegelnabend-3-3-2-2
LOCATION:Friedenskrug\, 48167\, Deutschland
CATEGORIES:Kegelabend
END:VEVENT
BEGIN:VEVENT
DTSTART;TZID=Europe/Paris:20240605T190000
DTEND;TZID=Europe/Paris:20240605T223000
DTSTAMP:20260419T184726
CREATED:20240124T142219Z
LAST-MODIFIED:20240214T144605Z
UID:259-1717614000-1717626600@ms-leinenlos.com
SUMMARY:Kegelabend - Firedenskrug
DESCRIPTION:
URL:https://ms-leinenlos.com/event/kegelnabend-3-3-2
LOCATION:Friedenskrug\, 48167\, Deutschland
CATEGORIES:Kegelabend
END:VEVENT
END:VCALENDAR