BEGIN:VCALENDAR
VERSION:2.0
PRODID:-//LeinenLos Münster - ECPv6.15.20//NONSGML v1.0//EN
CALSCALE:GREGORIAN
METHOD:PUBLISH
X-ORIGINAL-URL:https://ms-leinenlos.com
X-WR-CALDESC:Veranstaltungen für LeinenLos Münster
REFRESH-INTERVAL;VALUE=DURATION:PT1H
X-Robots-Tag:noindex
X-PUBLISHED-TTL:PT1H
BEGIN:VTIMEZONE
TZID:Europe/Paris
BEGIN:DAYLIGHT
TZOFFSETFROM:+0100
TZOFFSETTO:+0200
TZNAME:CEST
DTSTART:20250330T010000
END:DAYLIGHT
BEGIN:STANDARD
TZOFFSETFROM:+0200
TZOFFSETTO:+0100
TZNAME:CET
DTSTART:20251026T010000
END:STANDARD
BEGIN:DAYLIGHT
TZOFFSETFROM:+0100
TZOFFSETTO:+0200
TZNAME:CEST
DTSTART:20260329T010000
END:DAYLIGHT
BEGIN:STANDARD
TZOFFSETFROM:+0200
TZOFFSETTO:+0100
TZNAME:CET
DTSTART:20261025T010000
END:STANDARD
BEGIN:DAYLIGHT
TZOFFSETFROM:+0100
TZOFFSETTO:+0200
TZNAME:CEST
DTSTART:20270328T010000
END:DAYLIGHT
BEGIN:STANDARD
TZOFFSETFROM:+0200
TZOFFSETTO:+0100
TZNAME:CET
DTSTART:20271031T010000
END:STANDARD
END:VTIMEZONE
BEGIN:VEVENT
DTSTART;TZID=Europe/Paris:20260218T170000
DTEND;TZID=Europe/Paris:20260218T220000
DTSTAMP:20260421T180222
CREATED:20251207T145417Z
LAST-MODIFIED:20251207T145426Z
UID:1954-1771434000-1771452000@ms-leinenlos.com
SUMMARY:LeinenLos Jahresversammlung - 18.02.2026 - 17 Uhr
DESCRIPTION: 
URL:https://ms-leinenlos.com/event/jahresversammlung
LOCATION:Kiepe Wolbeck\, Hofstraße 21\, Münster\, NRW\, 48167\, Germany
CATEGORIES:Kegelabend
END:VEVENT
END:VCALENDAR