BEGIN:VCALENDAR
VERSION:2.0
PRODID:-//LeinenLos Münster - ECPv6.15.20//NONSGML v1.0//EN
CALSCALE:GREGORIAN
METHOD:PUBLISH
X-WR-CALNAME:LeinenLos Münster
X-ORIGINAL-URL:https://ms-leinenlos.com
X-WR-CALDESC:Veranstaltungen für LeinenLos Münster
REFRESH-INTERVAL;VALUE=DURATION:PT1H
X-Robots-Tag:noindex
X-PUBLISHED-TTL:PT1H
BEGIN:VTIMEZONE
TZID:Europe/Paris
BEGIN:DAYLIGHT
TZOFFSETFROM:+0100
TZOFFSETTO:+0200
TZNAME:CEST
DTSTART:20250330T010000
END:DAYLIGHT
BEGIN:STANDARD
TZOFFSETFROM:+0200
TZOFFSETTO:+0100
TZNAME:CET
DTSTART:20251026T010000
END:STANDARD
BEGIN:DAYLIGHT
TZOFFSETFROM:+0100
TZOFFSETTO:+0200
TZNAME:CEST
DTSTART:20260329T010000
END:DAYLIGHT
BEGIN:STANDARD
TZOFFSETFROM:+0200
TZOFFSETTO:+0100
TZNAME:CET
DTSTART:20261025T010000
END:STANDARD
BEGIN:DAYLIGHT
TZOFFSETFROM:+0100
TZOFFSETTO:+0200
TZNAME:CEST
DTSTART:20270328T010000
END:DAYLIGHT
BEGIN:STANDARD
TZOFFSETFROM:+0200
TZOFFSETTO:+0100
TZNAME:CET
DTSTART:20271031T010000
END:STANDARD
END:VTIMEZONE
BEGIN:VEVENT
DTSTART;TZID=Europe/Paris:20260513T190000
DTEND;TZID=Europe/Paris:20260513T223000
DTSTAMP:20260421T123009
CREATED:20260310T093951Z
LAST-MODIFIED:20260310T094030Z
UID:2047-1778698800-1778711400@ms-leinenlos.com
SUMMARY:Kegelabend - 13.05.2026 -
DESCRIPTION: 
URL:https://ms-leinenlos.com/event/kegelnabend-2026-05-13
LOCATION:Kiepe Wolbeck\, Hofstraße 21\, Münster\, NRW\, 48167\, Germany
CATEGORIES:Kegelabend
END:VEVENT
END:VCALENDAR